Workbook

Sheet 1. Resumen
A2: ESTRUCTURA DE COSTOS DEL SERVICIO DE SUPERVISION
A4: PROYECTO : | C4: SUPERVISIÓN DE LA OBRA: “ELABORACIÓN DEL EXPEDIENTE TÉCNICO DE OBRA PARA BOCAMINAS ID 1464 Y 5032 DEL PROYECTO DE RECUPERACIÓN DE LOS SERVICIOS ECOSISTÉMICOS EN LA MICROCUENCA DE LA QUEBRADA PELAGATOS CONTAMINADAS POR LOS PASIVOS AMBIENTALES MINEROS DE LA EX UNIDAD MINERA" | G4: Pag. Nº 01
A6: I.- | B6: OFERTA A"TARIFAS" DE LAS SIGUIENTES SECCIONES
B8: ITEM | C8: DESCRIPCIÓN DEL OBJETO | D8: N° PERIODOS DE TIEMPO | E8: PERIODO O UNIDAD DE TIEMPO DE LA TARIFA | F8: TARIFA UNITARIA | G8: TOTAL ECONOMICA
B9: A. | C9: SUPERVISIÓN DE EJECUCION DE OBRA
C10: SUPERVISIÓN DIRECTA | D10: 500 | E10: día | F10: ='2. Superv. Directa'!I96 -> 0 | G10: =D10*F10 -> 0
C11: RECEPCIÓN DE OBRA | D11: 30 | E11: día | F11: ='3. Recepción Obra'!K74 -> 0 | G11: =D11*F11 -> 0
C12: PUESTA EN SERVICIO | D12: 100 | E12: día | F12: ='4. Puesta Servicio'!K74 -> 0 | G12: =D12*F12 -> 0
B13: MONTO OFERTADO TOTAL A TARIFAS | G13: =SUM(G10:G12) -> 0
A16: II.- | B16: OFERTA A SUMA ALZADA
B18: ITEM | C18: PARTIDA | D18: UNIDAD | E18: CANTIDAD | F18: PRECIO UNITARIO (S/.) | G18: SUB TOTAL (S/)
B19: 1 | C19: LIQUIDACIÓN DE OBRA | D19: GLB | E19: 1 | F19: ='5. Liquidación'!H22 -> 0 | G19: =E19*F19 -> 0
B21: RESUMEN DEL PRESUPUESTO OFERTADO
B23: OBLIGACIONES | G23: COSTO (S/)
B24: A. | C24: LIQUIDACIÓN DE OBRA
C25: COSTO DIRECTO (CD) | G25: =G19 -> 0
C26: GASTOS GENERALES (GG) | G26: ='6. GG Liq.'!H13 -> 0
C27: UTILIDAD (U) | G27: ='5. Liquidación'!H24 -> 0
C28: SUB TOTAL (ST=CD+GG+U) | G28: =G25+G26+G27 -> 0
C29: IMPUESTO IGV (18 %) | G29: =ROUND(G28*0.18,2) -> 0
B30: MONTO OFERTADO (ST+IGV) A SUMA ALZADA | G30: =G28+G29 -> 0
B32: MONTO OFERTADO TOTAL A SUMA ALZADA (S/.) | G32: =G30 -> 0
B35: MONTO ESTIMADO TOTAL DE LA CONSULTORIA DE OBRA (S/.) | G35: =G13+G32 -> 0

Sheet 2. Superv. Directa
B2: I.- PRESUPUESTO DESAGREGADO - SUPERVISIÓN DIRECTA
B4: SUPERVISIÓN DE LA OBRA: “ELABORACIÓN DEL EXPEDIENTE TÉCNICO DE OBRA PARA BOCAMINAS ID 1464 Y 5032 DEL PROYECTO DE RECUPERACIÓN DE LOS SERVICIOS ECOSISTÉMICOS EN LA MICROCUENCA DE LA QUEBRADA PELAGATOS CONTAMINADAS POR LOS PASIVOS AMBIENTALES MINEROS DE LA EX UNIDAD MINERA" | I4: Pag. Nº 02
R7: .
B8: TARIFA : DIA | C8: TURNOS : DIA | H8: N° DIAS: | I8: 500
B10: DESCRIPCION | C10: UNIDAD | D10: CANTIDAD | E10: TIEMPO (Dias) | F10: % PARTICIPACIÓN | G10: Costo Diario | H10: MONTO POR MES S/ | I10: TOTAL S/
B13: A. DIRECCIÓN (Inc. Beneficios sociales)
B14: Supervisor de Obra | C14: und | D14: 1 | E14: 500 | F14: 1 | G14: 0 | I14: =+PRODUCT(D14:G14) -> 0
B15: Ingeniero Asistente del Supervisor de Obra | C15: und | D15: 1 | E15: 450 | F15: 1 | G15: 0 | I15: =+PRODUCT(D15:G15) -> 0
B16: Ingeniero Planeamento y Control de Costos | C16: und | D16: 1 | E16: 450 | F16: 1 | G16: 0 | I16: =+PRODUCT(D16:G16) -> 0
B17: Ing. de Control y Aseguramiento de la Calidad | C17: und | D17: 1 | E17: 500 | F17: 1 | G17: 0 | I17: =+PRODUCT(D17:G17) -> 0
B18: Ing. Seguridad, Salud Ocupacional y Medio Ambiente | C18: und | D18: 1 | E18: 500 | F18: 1 | G18: 0 | I18: =+PRODUCT(D18:G18) -> 0
B19: Ing. Especialista Ambiental | C19: und | D19: 1 | E19: 450 | F19: 1 | G19: 0 | I19: =+PRODUCT(D19:G19) -> 0
B20: Ing. Especialista Eléctrico | C20: und | D20: 1 | E20: 270 | F20: 1 | G20: 0 | I20: =+PRODUCT(D20:G20) -> 0
B21: Ing. Especialista procesos e instrumentación | C21: und | D21: 1 | E21: 270 | F21: 1 | G21: 0 | I21: =+PRODUCT(D21:G21) -> 0
B22: Ing. Especialista en instalaciones metalmecánicas | C22: und | D22: 1 | E22: 270 | F22: 1 | G22: 0 | I22: =+PRODUCT(D22:G22) -> 0
B23: Ing. Supervisor de Operaciones de Planta | C23: und | D23: 1 | E23: 170 | F23: 1 | G23: 0 | I23: =+PRODUCT(D23:G23) -> 0
B24: Relacionista comunitario | C24: und | D24: 1 | E24: 500 | F24: 1 | G24: 0 | I24: =+PRODUCT(D24:G24) -> 0
B25: Tecnico en suelos y concreto | C25: und | D25: 1 | E25: 270 | F25: 1 | G25: 0 | I25: =+PRODUCT(D25:G25) -> 0
... B30: Chofer miniban | C30: und | D30: 1 | E30: 500 | F30: 1 | G30: 0 | I30: =+PRODUCT(D30:G30) -> 0
H31: TOTAL POR DIRECCIÓN | I31: =SUM(I14:I30) -> 0
B33: B.- EQUIPOS, UTILES DE OFICINA Y OTROS
B34: Camioneta Pick Up Doble cabina 4x4. Inc. Combustible | C34: und | D34: 1 | E34: 500 | F34: 1 | I34: =(D34*E34*G34) -> 0
B35: Minivan 11 pasajeros. Inc. Combustible | C35: und | D35: 1 | E35: 450 | F35: 1 | I35: =(D35*E35*G35) -> 0
B36: Internet satelital (oficina) | C36: und | D36: 1 | E36: 500 | F36: 1 | I36: =(D36*E36*G36) -> 0
B37: Mobiliario de oficina (mesas, sillas, estantes, etc.) | C37: und | D37: =Permanencia!R20 -> 13 | E37: 500 | F37: 1 | I37: =(D37*E37*G37) -> 0
B38: Alquiler de oficina in situ (inc. Electricidad, agua, desague y vigilancia) | C38: und | D38: 1 | E38: 500 | F38: 1 | I38: =(D38*E38*G38) -> 0
B39: Equipo de Cómputo (Laptops, pantallas, mause, teclado, estabilizador) | C39: und | D39: =Permanencia!R20 -> 13 | E39: 500 | F39: 1 | I39: =(D39*E39*G39) -> 0
B40: Impresora (A4 y A3), incluye insumos | C40: und | D40: 1 | E40: 500 | F40: 1 | I40: =(D40*E40*G40) -> 0
B41: Radios de comunicación | C41: und | D41: =Permanencia!R21 -> 15 | E41: 450 | F41: 1 | I41: =(D41*E41*G41) -> 0
B42: Celulares con linea e internet | C42: und | D42: =Permanencia!R21 -> 15 | E42: 500 | F42: 1 | I42: =(D42*E42*G42) -> 0
B43: Equipo de fotografico, filmación y/o video (inc. vuelos con Dron al mes) | C43: paq | D43: 1 | E43: 500 | F43: 1 | I43: =(D43*E43*G43) -> 0
B44: Agua para consumo (Caja y/o botella de 20L) | C44: und | D44: 1 | E44: 500 | F44: 1 | I44: =(D44*E44*G44) -> 0
B45: Utiles de Oficina | C45: est | D45: 1 | E45: 500 | F45: 1 | I45: =(D45*E45*G45) -> 0
H46: TOTAL DE EQUIPOS, UTILES DE OFICINA Y OTROS | I46: =SUM(I34:I45) -> 0
B48: C.- ENSAYOS DE LABORATORIO (CONTROL ALEATORIO)
B49: Equipos de laboratorio de suelos: Equipamiento completo para control de compactación in situ, ensayos Proctor, determinación de humedad y clasificación de suelos, según normas técnicas aplicables. | C49: paq | D49: 1 | E49: 240 | I49: =(D49*E49*G49) -> 0
B50: Equipos de control de calidad de concreto: Equipamiento completo para control de concreto fresco y endurecido, elaboración y curado de probetas, y verificación de resistencia (lab. externo), conforme a las normas técnicas vigentes. | C50: paq | D50: 1 | E50: 240 | I50: =(D50*E50*G50) -> 0
B51: Equipos de laboratorio metalmecánico: Equipamiento completo para control de calidad y aceptación de estructuras metálicas, tuberías y equipos metalmecánicos, incluyendo control dimensional, inspección de soldaduras y medición de espesores, conforme a las normas técnicas vigentes. | C51: paq | D51: 1 | E51: 240 | I51: =(D51*E51*G51) -> 0
B52: Equipo de Topografía (Estación Total +Nivel Topográfico + Prismas) | C52: paq | D52: 1 | E52: 500 | I52: =(D52*E52*G52) -> 0
H53: TOTAL DE ENSAYOS LABORATORIO | I53: =SUM(I49:I52) -> 0
...

Sheet 3. Recepción Obra
B2: II.- PRESUPUESTO DESAGREGADO - RECEPCIÓN DE OBRA
B5: ='2. Superv. Directa'!B4 -> SUPERVISIÓN DE LA OBRA: “ELABORACIÓN DEL EXPEDIENTE TÉCNICO DE OBRA PARA BOCAMINAS ID 1464 Y 5032 DEL PROYECTO DE RECUPERACIÓN DE LOS SERVICIOS ECOSISTÉMICOS EN LA MICROCUENCA DE LA QUEBRADA PELAGATOS CONTAMINADAS POR LOS PASIVOS AMBIENTALES MINEROS DE LA EX UNIDAD MINERA" | K5: Pag. Nº 03
T8: .
B9: TARIFA : DIA | F9: TURNOS : DIA | J9: N° DIAS: | K9: 30
B12: DESCRIPCION | E12: UNIDAD | F12: CANTIDAD | G12: TIEMPO (Dias) | H12: % PARTICIPACIÓN | I12: Costo Diario | J12: MONTO POR MES S/ | K12: TOTAL S/
B15: A. DIRECCIÓN (Inc. Beneficios sociales)
B16: Supervisor de Obra | E16: und | F16: 1 | G16: =$K$9 -> 30 | H16: 1 | I16: 0 | J16: ='2. Superv. Directa'!H14 -> 0 | K16: =+PRODUCT(F16:I16) -> 0
B17: Ing. de Control y Aseguramiento de la Calidad | E17: und | F17: 1 | G17: =$K$9 -> 30 | H17: 1 | I17: 0 | J17: ='2. Superv. Directa'!H17 -> 0 | K17: =+PRODUCT(F17:I17) -> 0
B18: Ing. Seguridad, Salud Ocupacional y Medio Ambiente | E18: und | F18: 1 | G18: =$K$9 -> 30 | H18: 1 | I18: 0 | J18: ='2. Superv. Directa'!H18 -> 0 | K18: =+PRODUCT(F18:I18) -> 0
B19: Ing. Supervisor de Operaciones de Planta | E19: und | F19: 1 | G19: =$K$9 -> 30 | H19: 1 | I19: 0 | J19: ='2. Superv. Directa'!H23 -> 0 | K19: =+PRODUCT(F19:I19) -> 0
B20: Secretaria | E20: und | F20: 1 | G20: =$K$9 -> 30 | H20: 1 | I20: 0 | J20: ='2. Superv. Directa'!H28 -> 0 | K20: =+PRODUCT(F20:I20) -> 0
B21: Chofer camioneta | E21: und | F21: 1 | G21: =$K$9 -> 30 | H21: 1 | I21: 0 | J21: ='2. Superv. Directa'!H29 -> 0 | K21: =+PRODUCT(F21:I21) -> 0
J22: TOTAL REMUNERACIONES: | K22: =SUM(K16:K21) -> 0
B24: B.- EQUIPOS, UTILES DE OFICINA Y OTROS
B25: Camioneta Pick Up Doble cabina 4x4. Inc. Combustible | E25: und | F25: 1 | G25: =$K$9 -> 30 | H25: 1 | I25: 0 | J25: ='2. Superv. Directa'!H34 -> 0 | K25: =(F25*G25*I25) -> 0
B26: Internet satelital (oficina) | E26: und | F26: 1 | G26: =$K$9 -> 30 | H26: 1 | I26: 0 | J26: ='2. Superv. Directa'!H36*0.5 -> 0 | K26: =(F26*G26*I26) -> 0
B27: Mobiliario de oficina (mesas, sillas, estantes, etc.) | E27: und | F27: =SUM(F16:F20) -> 5 | G27: =$K$9 -> 30 | H27: 1 | I27: 0 | J27: ='2. Superv. Directa'!H37 -> 0 | K27: =(F27*G27*I27) -> 0
B28: Alquiler de oficina in situ (inc. Electricidad, agua, desague y vigilancia) | E28: und | F28: 1 | G28: =$K$9 -> 30 | H28: 1 | I28: 0 | J28: ='2. Superv. Directa'!H38*0.5 -> 0 | K28: =(F28*G28*I28) -> 0
B29: Equipo de Cómputo (Laptops, pantallas, mause, teclado, estabilizador) | E29: und | F29: =SUM(F16:F20) -> 5 | G29: =$K$9 -> 30 | H29: 1 | I29: 0 | J29: ='2. Superv. Directa'!H39 -> 0 | K29: =(F29*G29*I29) -> 0
B30: Impresora (A4 y A3), incluye insumos | E30: und | F30: 1 | G30: =$K$9 -> 30 | H30: 1 | I30: 0 | J30: ='2. Superv. Directa'!H40 -> 0 | K30: =(F30*G30*I30) -> 0
B31: Radios de comunicación | E31: und | F31: =SUM(F16:F21) -> 6 | G31: =$K$9 -> 30 | H31: 1 | I31: 0 | J31: ='2. Superv. Directa'!H41 -> 0 | K31: =(F31*G31*I31) -> 0
B32: Celulares con linea e internet | E32: und | F32: =SUM(F16:F21) -> 6 | G32: =$K$9 -> 30 | H32: 1 | I32: 0 | J32: ='2. Superv. Directa'!H42 -> 0 | K32: =(F32*G32*I32) -> 0
B33: Equipo de fotografico, filmación y/o video (inc. vuelos con Dron al mes) | E33: paq | F33: 1 | G33: =$K$9 -> 30 | H33: 1 | I33: 0 | J33: ='2. Superv. Directa'!H43 -> 0 | K33: =(F33*G33*I33) -> 0
B34: Agua para consumo (Caja y/o botella de 20L) | E34: und | F34: 1 | G34: =$K$9 -> 30 | H34: 1 | I34: 0 | J34: ='2. Superv. Directa'!H44*0.5 -> 0 | K34: =(F34*G34*I34) -> 0
B35: Utiles de Oficina | E35: est | F35: 1 | G35: =$K$9 -> 30 | H35: 1 | I35: 0 | J35: 0 | K35: =(F35*G35*I35) -> 0
J36: TOTAL DE EQUIPOS, UTILES DE OFICINA Y OTROS | K36: =SUM(K25:K35) -> 0
B38: C.- GESTIÓN DE SEGURIDAD Y SALUD OCUPACIONAL
B39: Exámenes Médicos de ingreso, periodico y salida | E39: und | F39: =SUM(F16:F21) -> 6 | G39: =$K$9 -> 30 | I39: 0 | J39: 0 | K39: =(F39*G39*I39) -> 0
B40: Equipo de protección personal | E40: und | F40: =SUM(F16:F21) -> 6 | G40: =$K$9 -> 30 | I40: 0 | J40: 0 | K40: =(F40*G40*I40) -> 0
B41: Gestión de seguridad (Señalización, capacitaciones, simulacros, etc.) | E41: est | F41: 1 | G41: =$K$9 -> 30 | I41: 0 | J41: 0 | K41: =(F41*G41*I41) -> 0
B42: Recursos para Respuesta a Emergencia | E42: est | F42: 1 | G42: =$K$9 -> 30 | I42: 0 | J42: 0 | K42: =(F42*G42*I42) -> 0
B43: Servicio de limpieza (incluye insumos) | E43: est | F43: 1 | G43: =$K$9 -> 30 | I43: 0 | J43: 0 | K43: =(F43*G43*I43) -> 0
J44: TOTAL DE GESTIÓN DE SEGURIDAD Y SALUD OCUPACIONAL | K44: =SUM(K39:K43) -> 0
B46: D.- OTROS GASTOS
B47: Transporte de personal al proyecto, inc. Viáticos (ida y vuelta) | E47: est | F47: =SUM(F16:F21) -> 6 | G47: =$K$9 -> 30 | H47: 1 | I47: 0 | J47: ='2. Superv. Directa'!H64 -> 0 | K47: =(F47*G47*I47) -> 0
B48: Alimentación del personal Técnico (Desayuno, almuerzo y cena) | E48: est | F48: =SUM(F16:F21) -> 6 | G48: =$K$9 -> 30 | H48: 1 | I48: 0 | K48: =(F48*G48*I48) -> 0
B49: Alquiler de habitación amoblada para personal técnico | E49: est | F49: =SUM(F16:F21) -> 6 | G49: =$K$9 -> 30 | H49: 1 | I49: 0 | J49: ='2. Superv. Directa'!H66 -> 0 | K49: =(F49*G49*I49) -> 0
J50: TOTAL DE OTROS GASTOS | K50: =SUM(K47:K49) -> 0
B52: E.- SEGUROS POR RIESGOS Y ACCIDENTES
B53: Seguros por riesgos y accidentes (% del total de las remuneraciones ) | E53: est | G53: 0.02 | I53: 0 | J53: =K22 -> 0 | K53: =J53*G53 -> 0
...

Sheet 4. Puesta Servicio
B3: II.- PRESUPUESTO DESAGREGADO - PUESTA EN SERVICIO
B5: ='2. Superv. Directa'!B4 -> SUPERVISIÓN DE LA OBRA: “ELABORACIÓN DEL EXPEDIENTE TÉCNICO DE OBRA PARA BOCAMINAS ID 1464 Y 5032 DEL PROYECTO DE RECUPERACIÓN DE LOS SERVICIOS ECOSISTÉMICOS EN LA MICROCUENCA DE LA QUEBRADA PELAGATOS CONTAMINADAS POR LOS PASIVOS AMBIENTALES MINEROS DE LA EX UNIDAD MINERA" | K5: Pag. Nº 04
T8: .
B9: TARIFA : DIA | F9: TURNOS : DIA | J9: N° DIAS: | K9: 100
B12: DESCRIPCION | E12: UNIDAD | F12: CANTIDAD | G12: TIEMPO (Dias) | H12: % PARTICIPACIÓN | I12: Costo Diario | J12: MONTO POR MES S/ | K12: TOTAL S/
B15: A. DIRECCIÓN (Inc. Beneficios sociales)
B16: Supervisor de Obra | E16: und | F16: 1 | G16: =$K$9 -> 100 | H16: 1 | I16: 0 | J16: ='2. Superv. Directa'!H14 -> 0 | K16: =+PRODUCT(F16:I16) -> 0
B17: Ing. de Control y Aseguramiento de la Calidad | E17: und | F17: 1 | G17: =$K$9 -> 100 | H17: 1 | I17: 0 | J17: ='2. Superv. Directa'!H17 -> 0 | K17: =+PRODUCT(F17:I17) -> 0
B18: Ing. Seguridad, Salud Ocupacional y Medio Ambiente | E18: und | F18: 1 | G18: =$K$9 -> 100 | H18: 1 | I18: 0 | J18: ='2. Superv. Directa'!H18 -> 0 | K18: =+PRODUCT(F18:I18) -> 0
B19: Ing. Supervisor de Operaciones de Planta | E19: und | F19: 1 | G19: =$K$9 -> 100 | H19: 1 | I19: 0 | J19: ='2. Superv. Directa'!H23 -> 0 | K19: =+PRODUCT(F19:I19) -> 0
B20: Secretaria | E20: und | F20: 1 | G20: =$K$9 -> 100 | H20: 1 | I20: 0 | J20: ='2. Superv. Directa'!H28 -> 0 | K20: =+PRODUCT(F20:I20) -> 0
B21: Chofer camioneta | E21: und | F21: 1 | G21: =$K$9 -> 100 | H21: 1 | I21: 0 | J21: ='2. Superv. Directa'!H29 -> 0 | K21: =+PRODUCT(F21:I21) -> 0
J22: TOTAL REMUNERACIONES: | K22: =SUM(K16:K21) -> 0
B24: B.- EQUIPOS, UTILES DE OFICINA Y OTROS
B25: Camioneta Pick Up Doble cabina 4x4. Inc. Combustible | E25: und | F25: 1 | G25: =$K$9 -> 100 | H25: 1 | I25: 0 | J25: ='2. Superv. Directa'!H34 -> 0 | K25: =(F25*G25*I25) -> 0
B26: Internet satelital (oficina) | E26: und | F26: 1 | G26: =$K$9 -> 100 | H26: 1 | I26: 0 | J26: ='2. Superv. Directa'!H36*0.5 -> 0 | K26: =(F26*G26*I26) -> 0
B27: Mobiliario de oficina (mesas, sillas, estantes, etc.) | E27: und | F27: =SUM(F16:F20) -> 5 | G27: =$K$9 -> 100 | H27: 1 | I27: 0 | J27: ='2. Superv. Directa'!H37 -> 0 | K27: =(F27*G27*I27) -> 0
B28: Alquiler de oficina in situ (inc. Electricidad, agua, desague y vigilancia) | E28: und | F28: 1 | G28: =$K$9 -> 100 | H28: 1 | I28: 0 | J28: ='2. Superv. Directa'!H38*0.5 -> 0 | K28: =(F28*G28*I28) -> 0
B29: Equipo de Cómputo (Laptops, pantallas, mause, teclado, estabilizador) | E29: und | F29: =SUM(F16:F20) -> 5 | G29: =$K$9 -> 100 | H29: 1 | I29: 0 | J29: ='2. Superv. Directa'!H39 -> 0 | K29: =(F29*G29*I29) -> 0
B30: Impresora (A4 y A3), incluye insumos | E30: und | F30: 1 | G30: =$K$9 -> 100 | H30: 1 | I30: 0 | J30: ='2. Superv. Directa'!H40 -> 0 | K30: =(F30*G30*I30) -> 0
B31: Radios de comunicación | E31: und | F31: =SUM(F16:F21) -> 6 | G31: =$K$9 -> 100 | H31: 1 | I31: 0 | J31: ='2. Superv. Directa'!H41 -> 0 | K31: =(F31*G31*I31) -> 0
B32: Celulares con linea e internet | E32: und | F32: =SUM(F16:F21) -> 6 | G32: =$K$9 -> 100 | H32: 1 | I32: 0 | J32: ='2. Superv. Directa'!H42 -> 0 | K32: =(F32*G32*I32) -> 0
B33: Equipo de fotografico, filmación y/o video (inc. vuelos con Dron al mes) | E33: paq | F33: 1 | G33: =$K$9 -> 100 | H33: 1 | I33: 0 | J33: ='2. Superv. Directa'!H43 -> 0 | K33: =(F33*G33*I33) -> 0
B34: Agua para consumo (Caja y/o botella de 20L) | E34: und | F34: 1 | G34: =$K$9 -> 100 | H34: 1 | I34: 0 | J34: ='2. Superv. Directa'!H44*0.5 -> 0 | K34: =(F34*G34*I34) -> 0
B35: Utiles de Oficina | E35: est | F35: 1 | G35: =$K$9 -> 100 | H35: 1 | I35: 0 | J35: ='3. Recepción Obra'!J35 -> 0 | K35: =(F35*G35*I35) -> 0
J36: TOTAL DE EQUIPOS, UTILES DE OFICINA Y OTROS | K36: =SUM(K25:K35) -> 0
B38: C.- GESTIÓN DE SEGURIDAD Y SALUD OCUPACIONAL
B39: Exámenes Médicos de ingreso, periodico y salida | E39: und | F39: =SUM(F16:F21) -> 6 | G39: =$K$9 -> 100 | J39: 0 | K39: =(F39*G39*I39) -> 0
B40: Equipo de protección personal | E40: und | F40: =SUM(F16:F21) -> 6 | G40: =$K$9 -> 100 | J40: 0 | K40: =(F40*G40*I40) -> 0
B41: Gestión de seguridad (Señalización, capacitaciones, simulacros, etc.) | E41: est | F41: 1 | G41: =$K$9 -> 100 | J41: 0 | K41: =(F41*G41*I41) -> 0
B42: Recursos para Respuesta a Emergencia | E42: est | F42: 1 | G42: =$K$9 -> 100 | J42: 0 | K42: =(F42*G42*I42) -> 0
B43: Servicio de limpieza (incluye insumos) | E43: est | F43: 1 | G43: =$K$9 -> 100 | J43: 0 | K43: =(F43*G43*I43) -> 0
J44: TOTAL DE GESTIÓN DE SEGURIDAD Y SALUD OCUPACIONAL | K44: =SUM(K39:K43) -> 0
B46: D.- OTROS GASTOS
B47: Transporte de personal al proyecto, inc. Viáticos (ida y vuelta) | E47: est | F47: =SUM(F16:F21) -> 6 | G47: =$K$9 -> 100 | H47: 1 | J47: ='2. Superv. Directa'!H64 -> 0 | K47: =(F47*G47*I47) -> 0
B48: Alimentación del personal Técnico (Desayuno, almuerzo y cena) | E48: est | F48: =SUM(F16:F21) -> 6 | G48: =$K$9 -> 100 | H48: 1 | J48: ='2. Superv. Directa'!H65 -> 0 | K48: =(F48*G48*I48) -> 0
B49: Alquiler de habitación amoblada para personal técnico | E49: est | F49: =SUM(F16:F21) -> 6 | G49: =$K$9 -> 100 | H49: 1 | J49: ='2. Superv. Directa'!H66 -> 0 | K49: =(F49*G49*I49) -> 0
J50: TOTAL DE OTROS GASTOS | K50: =SUM(K47:K49) -> 0
B52: E.- SEGUROS POR RIESGOS Y ACCIDENTES
B53: Seguros por riesgos y accidentes (% del total de las remuneraciones ) | E53: est | G53: 0.02 | J53: =K22 -> 0 | K53: =J53*G53 -> 0
...

Sheet 5. Liquidación
A2: ESTRUCTURA DE COSTOS POR LIQUIDACIÓN DE CONTRATO DE OBRA
A4: PROYECTO : | C4: SUPERVISIÓN DE LA OBRA: “ELABORACIÓN DEL EXPEDIENTE TÉCNICO DE OBRA PARA BOCAMINAS ID 1464 Y 5032 DEL PROYECTO DE RECUPERACIÓN DE LOS SERVICIOS ECOSISTÉMICOS EN LA MICROCUENCA DE LA QUEBRADA PELAGATOS CONTAMINADAS POR LOS PASIVOS AMBIENTALES MINEROS DE LA EX UNIDAD MINERA" | H4: Pag. Nº 05
A6: OFERTA A SUMA ALZADA
A8: ITEM | B8: DESCRIPCION | E8: UNIDAD | F8: CANTIDAD | G8: PRECIO UNITARIO | H8: TOTAL S/
A10: 1 | B10: LIQUIDACIÓN DE OBRA | E10: glb | F10: 1 | G10: =SUM(G11:G21) -> 0 | H10: =F10*G10 -> 0
A11: 1.01 | B11: Supervisor de Obra | E11: glb | F11: 1 | G11: 0 | H11: =PRODUCT(F11:G11) -> 0 | J11: 20000
A12: =A11+0.01 -> 1.02 | B12: Ingeniero Asistente del Supervisor de Obra | E12: glb | F12: 1 | G12: 0 | H12: =PRODUCT(F12:G12) -> 0 | J12: 12000
A13: =A12+0.01 -> 1.03 | B13: Ing. de Control y Aseguramiento de la Calidad | E13: glb | F13: 1 | G13: 0 | H13: =PRODUCT(F13:G13) -> 0 | J13: 5587.5
A14: =A13+0.01 -> 1.04 | B14: Ing. Seguridad, Salud Ocupacional y Medio Ambiente | E14: glb | F14: 1 | G14: 0 | H14: =PRODUCT(F14:G14) -> 0 | J14: 5587.5
A15: =A14+0.01 -> 1.05 | B15: Ing. Supervisor de Operaciones de Planta | E15: glb | F15: 1 | G15: 0 | H15: =PRODUCT(F15:G15) -> 0 | J15: 5587.5
A16: =A15+0.01 -> 1.06 | B16: Topografo | E16: glb | F16: 1 | G16: 0 | H16: =PRODUCT(F16:G16) -> 0 | J16: 4500
A17: =A16+0.01 -> 1.07 | B17: Secretaria | E17: glb | F17: 1 | G17: 0 | H17: =PRODUCT(F17:G17) -> 0 | J17: 3500
A18: =A17+0.01 -> 1.08 | B18: Equipo de Cómputo (Laptops, pantallas, mause, teclado) | E18: glb | F18: 1 | G18: 0 | H18: =PRODUCT(F18:G18) -> 0 | J18: 1260
A19: =A18+0.01 -> 1.09 | B19: Impresora A4 y A3, incluye insumos | E19: glb | F19: 1 | G19: 0 | H19: =PRODUCT(F19:G19) -> 0 | J19: 500
A20: =A19+0.01 -> 1.1 | B20: Celulares con linea e internet | E20: glb | F20: 1 | G20: 0 | H20: =PRODUCT(F20:G20) -> 0 | J20: 35
A21: =A20+0.01 -> 1.11 | B21: Utiles de Oficina | E21: glb | F21: 1 | G21: 0 | H21: =PRODUCT(F21:G21) -> 0 | J21: 300
E22: COSTO DIRECTO (CD) | H22: =SUM(H11:H21) -> 0
E23: GASTOS GENERALES (GG) | H23: ='6. GG Liq.'!H13 -> 0
E24: UTILIDAD (U) | H24: =ROUND(H22*0.08,2) -> 0
E25: SUB TOTAL (ST=CD+GG+U) | H25: =H22+H23+H24 -> 0
E26: IMPUESTO IGV (18 %) | H26: =ROUND(H25*0.18,2) -> 0
D27: MONTO OFERTADO (ST+IGV) A SUMA ALZADA | H27: =H25+H26 -> 0 | J27: 79383.303
B29: *INCLUYE ELABORACIÓN DEL PROPIO CALCULO EN CASO EL CONTRATISTA NO PRESENTE O TENGA DEFICIENCIAS
B30: NOTA
C31: El proponente debe llenar los campos resaltados en amarillo

Sheet 6. GG Liq.
A2: GASTOS GENERALES POR LA LIQUIDACIÓN DE CONTRATO DE OBRA
A4: PROYECTO : | C4: SUPERVISIÓN DE LA OBRA: “ELABORACIÓN DEL EXPEDIENTE TÉCNICO DE OBRA PARA BOCAMINAS ID 1464 Y 5032 DEL PROYECTO DE RECUPERACIÓN DE LOS SERVICIOS ECOSISTÉMICOS EN LA MICROCUENCA DE LA QUEBRADA PELAGATOS CONTAMINADAS POR LOS PASIVOS AMBIENTALES MINEROS DE LA EX UNIDAD MINERA" | H4: Pag. Nº 06
A8: ITEM | B8: DESCRIPCION | E8: UNIDAD | F8: CANTIDAD | G8: PRECIO UNITARIO | H8: TOTAL S/
A11: 1.01 | B11: Carta fianza de fiel cumplimiento | E11: est | F11: 3 | G11: 0 | H11: =PRODUCT(F11:G11) -> 0
A12: =A11+0.01 -> 1.02 | B12: Asesoria técnica legal | E12: est | F12: 1 | G12: 0 | H12: =PRODUCT(F12:G12) -> 0
E13: COSTO DIRECTO (CD) | H13: =SUM(H11:H12) -> 0
B15: NOTA
C16: El proponente debe llenar los campos resaltados en amarillo

Sheet Epp
B1: ESTRUCTURA DE COSTOS DEL SERVICIO DE SUPERVISION
B3: DESAGREGADO DE GASTOS GENERALES - EPP PERSONAL DE SUPERVISION
B5: EQUIPOS DE PROTECCION PERSONAL
T9: .
B10: Item | C10: Implementos de Protección Personal ( EPP ) | D10: COSTO S/. | E10: Tiempo de vida en días | F10: Costo x Día
B11: 1 | C11: ZAPATO BOTIN CAÑA CORTA C/ PUNTA ACERO | E11: 180 | F11: =D11/E11 -> 0
B12: 2 | C12: BOTAS DE JEBE C/ PUNTA DE ACERO | E12: 360 | F12: =D12/E12 -> 0
B13: 3 | C13: GUANTE DE NYLON | E13: 60 | F13: =D13/E13 -> 0
B14: 4 | C14: CASCO C/ PORT FAST TRAC + BARBIQUEJO | E14: 360 | F14: =D14/E14 -> 0
B15: 5 | C15: LAMPARA MINERA RECARGABLE | E15: =360*2 -> 720 | F15: =D15/E15 -> 0
B16: 6 | C16: CORTAVIENTO DE TELA | E16: 180 | F16: =D16/E16 -> 0
B17: 7 | C17: ANTEOJO CLARO Y/U OSCURO ANTIEMPAÑO | E17: 60 | F17: =D17/E17 -> 0
B18: 8 | C18: OREJERA PARA CASO | E18: 360 | F18: =D18/E18 -> 0
B19: 9 | C19: RESPIRADOR MEDIA CARA | E19: 360 | F19: =D19/E19 -> 0
B20: 10 | C20: FILTRO 2097 ALTA EFICIENCIA PQTX2PZA | E20: 60 | F20: =D20/E20 -> 0
B21: 11 | C21: PROTECTORES DE AGUA | E21: 120 | F21: =D21/E21 -> 0
B22: 12 | C22: ARNES DE SEGURIDAD C/ DOBLE LINEA DE ANCLAJES | E22: 360 | F22: =D22/E22 -> 0
B23: 13 | C23: PROTECTOR SOLAR | E23: 60 | F23: =D23/E23 -> 0
B24: 14 | C24: OVEROL | E24: 360 | F24: =D24/E24 -> 0
B25: 15 | C25: CHALECO | E25: 360 | F25: =D25/E25 -> 0
B26: 16 | C26: GUANTES DE CUERO | E26: 60 | F26: =D26/E26 -> 0
D27: Costo día | F27: =SUM(F11:F26) -> 0
B28: NOTA | D28: Costo mes | F28: =F27*30 -> 0
C29: El proponente debe llenar los campos resaltados en amarillo

Sheet Financieros
B4: DESAGREGADO DE GASTOS FINANCIEROS
B6: SUPERVISIÓN DE LA OBRA: “ELABORACIÓN DEL EXPEDIENTE TÉCNICO DE OBRA PARA BOCAMINAS ID 1464 Y 5032 DEL PROYECTO DE RECUPERACIÓN DE LOS SERVICIOS ECOSISTÉMICOS EN LA MICROCUENCA DE LA QUEBRADA PELAGATOS CONTAMINADAS POR LOS PASIVOS AMBIENTALES MINEROS DE LA EX UNIDAD MINERA"
T9: .
B10: III.-. GASTOS FINANCIEROS
B12: 1.00.- GARANTIA DE FIEL CUMPLIMIENTO DEL CONTRATO (HASTA CONSENTIMIENTO DE LIQUIDACIÓN DEL SERVICIO)
B13: Tasa: | D13: Comisión del Banco: | G13: ( * )
D14: Periodo (meses): | F14: 21
D15: Monto de la Carta Fianza: | I15: =+E16*C13 -> 0
C16: Monto Aplicable: | E16: 4577631.1 | G16: Costo Financiero | I16: =ROUND(I15*F14*F13/12,2) -> 0
C17: ( * ) Considera plazo ejecución+ liquidación | G17: Costo Financiero Mensual | I17: =I16/F14 -> 0
B20: 2.00.- GARANTIA POR ADELANTO DIRECTO HASTA LA AMORTIZACIÓN:
B21: Tasa: | D21: Comisión del Banco: | G21: ( * )
D22: Periodo (meses): | F22: =15+6 -> 21
D23: Carta Fianza Renovable
I24: =+E25*C21 -> 0
C25: Monto Aplicable: | G25: Costo Financiero | I25: =ROUND((I24*F21*F22/12)*0.5,2) -> 0
C26: ( * ) Considera plazo ejecución+ liquidación | G26: Costo Financiero Mensual | I26: =I25/F22 -> 0
A28: NOTA
B29: El proponente debe llenar los campos resaltados en amarillo

Sheet Costos x rev. document
B2: SUPERVISIÓN DE LA OBRA: “ELABORACIÓN DEL EXPEDIENTE TÉCNICO DE OBRA PARA BOCAMINAS ID 1464 Y 5032 DEL PROYECTO DE RECUPERACIÓN DE LOS SERVICIOS ECOSISTÉMICOS EN LA MICROCUENCA DE LA QUEBRADA PELAGATOS CONTAMINADAS POR LOS PASIVOS AMBIENTALES MINEROS DE LA EX UNIDAD MINERA"
B7: COSTO POR PRONUNCIAMIENTO DE REVISIÓN DEL EXP. TECNICO Y OTROS SEGÚN TDR DE EJECUCIÓN PREVIO AL INICIO DEL PLAZO DE EJECUCIÓN DE OBRA.
B8: DESCRIPCION | E8: CANTIDAD | F8: TIEMPO (dias) | G8: MONTO S/ (inc. Beneficios Sociales) | H8: MONTO MENSUAL | I8: TOTAL S/.
T9: .
B10: COSTO DIRECTO
B11: Supervisor de Obra | E11: 1 | F11: 5 | H11: ='2. Superv. Directa'!H14 -> 0 | I11: =(E11*F11*G11) -> 0
B12: Ingeniero Asistente del Supervisor de Obra | E12: 1 | F12: 5 | H12: ='2. Superv. Directa'!H15 -> 0 | I12: =(E12*F12*G12) -> 0
B13: Ing. de Control y Aseguramiento de la Calidad | E13: 1 | F13: 5 | H13: ='2. Superv. Directa'!H17 -> 0 | I13: =(E13*F13*G13) -> 0
B14: Ing. Seguridad, Salud Ocupacional y Medio Ambiente | E14: 1 | F14: 5 | H14: ='2. Superv. Directa'!H18 -> 0 | I14: =(E14*F14*G14) -> 0
D16: COSTOS DIRECTOS REVISION DE DOCUMENTOS | I16: =SUM(I11:I15) -> 0
B18: EMISIÓN DE CERTIFICADO DE CONFORMIDAD FINAL DE OBRA, REVISIÓN DE ULTIMA VALORIZACIÓN, PLANOS POST CONSTRUCCIÓN, MEMORIA DESCRIPTIVA, METRADOS, DOSSIER DE CALIDAD, VALORIZACIÓN DE SUPERVISIÓN E INFORME FINAL DE SUPERVISIÓN.
B19: DESCRIPCION | E19: CANTIDAD | F19: TIEMPO (dias) | G19: MONTO S/ (inc. Beneficios Sociales) | H19: MONTO MENSUAL | I19: TOTAL S/.
B20: PERSONAL REQUERIDO
B21: COSTO DIRECTO
B22: Supervisor de Obra | E22: 1 | F22: 15 | H22: ='2. Superv. Directa'!H14 -> 0 | I22: =(E22*F22*G22) -> 0
B23: Ingeniero Asistente del Supervisor de Obra | E23: 1 | F23: 15 | H23: ='2. Superv. Directa'!H15 -> 0 | I23: =(E23*F23*G23) -> 0
B24: Ing. de Control y Aseguramiento de la Calidad | E24: 1 | F24: 15 | H24: ='2. Superv. Directa'!H17 -> 0 | I24: =(E24*F24*G24) -> 0
B25: Ing. Especialista procesos e instrumentación | E25: 1 | F25: 15 | H25: ='2. Superv. Directa'!H21 -> 0 | I25: =(E25*F25*G25) -> 0
B26: Topografo | E26: 1 | F26: 15 | H26: ='2. Superv. Directa'!H26 -> 0 | I26: =(E26*F26*G26) -> 0
D28: COSTOS DIRECTOS REVISION DE DOCUMENTOS | I28: =SUM(I22:I27) -> 0
B31: NOTA
C32: El proponente debe llenar los campos resaltados en amarillo

Sheet Permanencia
B2: ESTIMACIÓN DE PERMANENCIA DEL PERSONAL DE SUPERVISIÓN | C2: EJECUCIÓN
B3: PERSONAL | C3: MES 1 | D3: MES 2 | E3: MES 3 | F3: MES 4 | G3: MES 5 | H3: MES 6 | I3: MES 7 | J3: MES 8 | K3: MES 9 | L3: MES 10 | M3: MES 11 | N3: MES 12 | O3: MES 13 | P3: MES 14 | Q3: MES 15
B4: Supervisor de Obra | C4: 1 | D4: 1 | E4: 1 | F4: 1 | G4: 1 | H4: 1 | I4: 1 | J4: 1 | K4: 1 | L4: 1 | M4: 1 | N4: 1 | O4: 1 | P4: 1 | Q4: 1
B5: Ingeniero Asistente del Supervisor de Obra | C5: 1 | D5: 1 | E5: 1 | F5: 1 | G5: 1 | H5: 1 | I5: 1 | J5: 1 | K5: 1 | L5: 1 | M5: 1 | N5: 1 | O5: 1 | P5: 1 | Q5: 1
B6: Ingeniero Planeamento y Control de Costos | C6: 1 | D6: 1 | E6: 1 | F6: 1 | G6: 1 | H6: 1 | I6: 1 | J6: 1 | K6: 1 | L6: 1 | M6: 1 | N6: 1 | O6: 1 | P6: 1 | Q6: 1
B7: Ing. de Control y Aseguramiento de la Calidad | C7: 1 | D7: 1 | E7: 1 | F7: 1 | G7: 1 | H7: 1 | I7: 1 | J7: 1 | K7: 1 | L7: 1 | M7: 1 | N7: 1 | O7: 1 | P7: 1 | Q7: 1
B8: Ing. Seguridad, Salud Ocupacional y Medio Ambiente | C8: 1 | D8: 1 | E8: 1 | F8: 1 | G8: 1 | H8: 1 | I8: 1 | J8: 1 | K8: 1 | L8: 1 | M8: 1 | N8: 1 | O8: 1 | P8: 1 | Q8: 1
B9: Ing. Especialista Ambiental | C9: 1 | D9: 1 | E9: 1 | F9: 1 | G9: 1 | H9: 1 | I9: 1 | J9: 1 | K9: 1 | L9: 1 | M9: 1 | N9: 1 | O9: 1 | P9: 1 | Q9: 1
B10: Ing. Especialista Eléctrico | I10: 1 | J10: 1 | K10: 1 | L10: 1 | M10: 1 | N10: 1 | O10: 1 | P10: 1 | Q10: 1
B11: Ing. Especialista procesos e instrumentación | I11: 1 | J11: 1 | K11: 1 | L11: 1 | M11: 1 | N11: 1 | O11: 1 | P11: 1 | Q11: 1
B12: Ing. Especialista en instalaciones metalmecánicas | I12: 1 | J12: 1 | K12: 1 | L12: 1 | M12: 1 | N12: 1 | O12: 1 | P12: 1 | Q12: 1
B13: Ing. Supervisor de Operaciones de Planta | N13: 1 | O13: 1 | P13: 1 | Q13: 1
B14: Relacionista comunitario | C14: 1 | D14: 1 | E14: 1 | F14: 1 | G14: 1 | H14: 1 | I14: 1 | J14: 1 | K14: 1 | L14: 1 | M14: 1 | N14: 1 | O14: 1 | P14: 1 | Q14: 1
B15: Tecnico en suelos y concreto | C15: 1 | D15: 1 | E15: 1 | F15: 1 | G15: 1 | H15: 1 | I15: 1 | J15: 1 | K15: 1
B16: Topografo | C16: 1 | D16: 1 | E16: 1 | F16: 1 | G16: 1 | H16: 1 | I16: 1 | J16: 1 | K16: 1 | L16: 1 | M16: 1 | N16: 1 | O16: 1 | P16: 1 | Q16: 1
B17: Asistente de Topografia - cadista | C17: 1 | D17: 1 | E17: 1 | F17: 1 | G17: 1 | H17: 1 | I17: 1 | J17: 1 | K17: 1 | L17: 1 | M17: 1 | N17: 1 | O17: 1 | P17: 1 | Q17: 1
B18: Secretaria | C18: 1 | D18: 1 | E18: 1 | F18: 1 | G18: 1 | H18: 1 | I18: 1 | J18: 1 | K18: 1 | L18: 1 | M18: 1 | N18: 1 | O18: 1 | P18: 1 | Q18: 1
B19: Chofer | C19: 2 | D19: 2 | E19: 2 | F19: 2 | G19: 2 | H19: 2 | I19: 2 | J19: 2 | K19: 2 | L19: 2 | M19: 2 | N19: 2 | O19: 2 | P19: 2 | Q19: 2
B20: TOTAL SIN CONDUCTOR | C20: =SUM(C4:C18) -> 11 | D20: =SUM(D4:D18) -> 11 | E20: =SUM(E4:E18) -> 11 | F20: =SUM(F4:F18) -> 11 | G20: =SUM(G4:G18) -> 11 | H20: =SUM(H4:H18) -> 11 | I20: =SUM(I4:I18) -> 14 | J20: =SUM(J4:J18) -> 14 | ... Q20: =SUM(Q4:Q18) -> 14 | R20: =ROUND(AVERAGE(C20:Q20),0) -> 13
B21: TOTAL | C21: =SUM(C4:C19) -> 13 | D21: =SUM(D4:D19) -> 13 | E21: =SUM(E4:E19) -> 13 | F21: =SUM(F4:F19) -> 13 | G21: =SUM(G4:G19) -> 13 | H21: =SUM(H4:H19) -> 13 | I21: =SUM(I4:I19) -> 16 | J21: =SUM(J4:J19) -> 16 | ... Q21: =SUM(Q4:Q19) -> 16 | R21: =ROUND(AVERAGE(C21:Q21),0) -> 15
B23: ESTIMACIÓN DE PERMANENCIA DEL PERSONAL DE SUPERVISIÓN | C23: COMISIONAMIENTO
B24: PERSONAL | C24: MES 1 | D24: MES 2 | E24: MES 3 | F24: MES 4 | G24: MES 5 | H24: MES 6
B25: Supervisor de Obra | C25: 1 | D25: 1 | E25: 1 | F25: 1 | G25: 1 | H25: 1
B26: Ingeniero Asistente del Supervisor de Obra
B27: Ingeniero Planeamento y Control de Costos
B28: Ing. de Control y Aseguramiento de la Calidad | C28: 1 | D28: 1 | E28: 1 | F28: 1 | G28: 1 | H28: 1
B29: Ing. Seguridad, Salud Ocupacional y Medio Ambiente | C29: 1 | D29: 1 | E29: 1 | F29: 1 | G29: 1 | H29: 1
B30: Ing. Especialista Ambiental
B31: Ing. Especialista Eléctrico
B32: Ing. Especialista procesos e instrumentación
B33: Ing. Especialista en instalaciones metalmecánicas
B34: Ing. Supervisor de Operaciones de Planta | C34: 1 | D34: 1 | E34: 1 | F34: 1 | G34: 1 | H34: 1
B35: Relacionista comunitario
B36: Tecnico en suelos y concreto
B37: Topografo
B38: Asistente de Topografia - cadista
B39: Secretaria | C39: 1 | D39: 1 | E39: 1 | F39: 1 | G39: 1 | H39: 1
B40: Chofer | C40: 1 | D40: 1 | E40: 1 | F40: 1 | G40: 1 | H40: 1
B41: TOTAL SIN CONDUCTOR | C41: =SUM(C25:C39) -> 5 | D41: =SUM(D25:D39) -> 5 | E41: =SUM(E25:E39) -> 5 | F41: =SUM(F25:F39) -> 5 | G41: =SUM(G25:G39) -> 5 | H41: =SUM(H25:H39) -> 5 | I41: =AVERAGE(C41:H41) -> 5
B42: TOTAL | C42: =SUM(C25:C40) -> 6 | D42: =SUM(D25:D40) -> 6 | E42: =SUM(E25:E40) -> 6 | F42: =SUM(F25:F40) -> 6 | G42: =SUM(G25:G40) -> 6 | H42: =SUM(H25:H40) -> 6 | I42: =AVERAGE(C42:H42) -> 6
